BEGIN:VCALENDAR
VERSION:2.0
PRODID:-//East Lincoln Community Garden - ECPv6.15.20//NONSGML v1.0//EN
CALSCALE:GREGORIAN
METHOD:PUBLISH
X-WR-CALNAME:East Lincoln Community Garden
X-ORIGINAL-URL:https://elcommunitygarden.org
X-WR-CALDESC:Events for East Lincoln Community Garden
REFRESH-INTERVAL;VALUE=DURATION:PT1H
X-Robots-Tag:noindex
X-PUBLISHED-TTL:PT1H
BEGIN:VTIMEZONE
TZID:America/New_York
BEGIN:DAYLIGHT
TZOFFSETFROM:-0500
TZOFFSETTO:-0400
TZNAME:EDT
DTSTART:20250309T070000
END:DAYLIGHT
BEGIN:STANDARD
TZOFFSETFROM:-0400
TZOFFSETTO:-0500
TZNAME:EST
DTSTART:20251102T060000
END:STANDARD
BEGIN:DAYLIGHT
TZOFFSETFROM:-0500
TZOFFSETTO:-0400
TZNAME:EDT
DTSTART:20260308T070000
END:DAYLIGHT
BEGIN:STANDARD
TZOFFSETFROM:-0400
TZOFFSETTO:-0500
TZNAME:EST
DTSTART:20261101T060000
END:STANDARD
BEGIN:DAYLIGHT
TZOFFSETFROM:-0500
TZOFFSETTO:-0400
TZNAME:EDT
DTSTART:20270314T070000
END:DAYLIGHT
BEGIN:STANDARD
TZOFFSETFROM:-0400
TZOFFSETTO:-0500
TZNAME:EST
DTSTART:20271107T060000
END:STANDARD
END:VTIMEZONE
BEGIN:VEVENT
DTSTART;TZID=America/New_York:20260416T130000
DTEND;TZID=America/New_York:20260416T160000
DTSTAMP:20260423T174833
CREATED:20260312T170015Z
LAST-MODIFIED:20260312T182038Z
UID:7876-1776344400-1776355200@elcommunitygarden.org
SUMMARY:SPECIAL EVENT | Garden Project Day
DESCRIPTION:Project Day at the Community Garden \nThe event is open to all volunteers.  United Way is providing labor assistance to help us get a few sprucing-up projects completed.  We have several wrought iron benches\, a table\, and six chairs to rejuvenate after being out in the weather for several seasons.  Tasks will involve light sanding and spray painting (black\, yellow and green) our garden furniture to make things more visually inviting.  Sally’s YMCA is providing the materials for us.  We’ll also put together and place a colorful wind-catcher. \nThis is a break from typical gardening tasks that can be completed in the time we’re there. It’s also the starting point for adding more visual appeal to the garden environment through the year. \nCome out in comfortable work clothes that you don’t mind getting a little sanding dust on and maybe a few paint spots too—depending on your spray-painting talents.  We’ll have nitrile gloves for everyone\, so your hands stay paint-free. \nFor Extension Master Gardener volunteers\, your volunteer time may be recorded for supporting these community garden project tasks that were approved by Extension. \nThank you for your support!
URL:https://elcommunitygarden.org/event/garden-project-day/
LOCATION:E. Lincoln Community Garden\, 1601 Forney Creek Pkwy\, Denver\, NC\, 28037\, United States
CATEGORIES:Garden Maintenance
ATTACH;FMTTYPE=image/webp:https://elcommunitygarden.org/wp-content/uploads/2026/03/IMG_1935.webp
ORGANIZER;CN="Garden Manager":MAILTO:contact@elcommunitygarden.org
END:VEVENT
BEGIN:VEVENT
DTSTART;TZID=America/New_York:20260411T090000
DTEND;TZID=America/New_York:20260411T110000
DTSTAMP:20260423T174833
CREATED:20260302T211351Z
LAST-MODIFIED:20260312T181524Z
UID:7872-1775898000-1775905200@elcommunitygarden.org
SUMMARY:GARDEN MAINTENANCE | Workday
DESCRIPTION:Open to all volunteers and Extension Master Gardeners. Our goal is to continue mitigating pop-up weeds in garden common space areas\, ensure garden beds are weed-free\, trim and mulch perennial plants outside of the fence\, and remove refuse from the tool shed area.  New gardeners will be shown how to manage plants actively growing (garlic\, potatoes). \nPlease dress accordingly for the weather.  Tasks will involve kneeling\, bending\, stretching\, and light lifting.  Bring along a kneeling pad or bench/kneeler as needed along with gloves and any personal tools you prefer.  Just to note\, the tool shed has common garden tools that volunteers are welcome to use.  Please also remember to bring drinks to stay hydrated. \nIf rain is forecast\, the workday will be canceled the evening before and the calendar will be updated to show the cancelation.
URL:https://elcommunitygarden.org/event/garden-maintenance-workday/
LOCATION:E. Lincoln Community Garden\, 1601 Forney Creek Pkwy\, Denver\, NC\, 28037\, United States
CATEGORIES:Garden Maintenance
ATTACH;FMTTYPE=image/webp:https://elcommunitygarden.org/wp-content/uploads/2024/01/IMG_9862.webp
ORGANIZER;CN="Garden Manager":MAILTO:contact@elcommunitygarden.org
END:VEVENT
BEGIN:VEVENT
DTSTART;TZID=America/New_York:20260314T100000
DTEND;TZID=America/New_York:20260314T120000
DTSTAMP:20260423T174833
CREATED:20260302T193247Z
LAST-MODIFIED:20260302T194050Z
UID:7862-1773482400-1773489600@elcommunitygarden.org
SUMMARY:SPECIAL EVENT | Community Garden Open House and Spring Clean-up
DESCRIPTION:Undecided about volunteering at the East Lincoln Community Garden? Come out and see our Spring clean-up in progress and what the garden is all about!  Several Extension Master GardenersSM will be on hand to show you around and answer your questions.  Feel like getting your hands dirty?  No problem\, we have a plethora of weeds to pull and perennial flowers to tend to so pollinators get a good start on helping us during the growing season. Do you have youngsters you’d like to introduce to gardening? Bring them along for a firsthand look! \nFor Master Gardeners\, please sign up for the work day event on the EMG Intranet Calendar.
URL:https://elcommunitygarden.org/event/community-garden-open-house-and-spring-clean-up/
LOCATION:E. Lincoln Community Garden\, 1601 Forney Creek Pkwy\, Denver\, NC\, 28037\, United States
CATEGORIES:Garden Maintenance
ATTACH;FMTTYPE=image/jpeg:https://elcommunitygarden.org/wp-content/uploads/2026/03/IMG_2674.jpeg
ORGANIZER;CN="Garden Manager":MAILTO:contact@elcommunitygarden.org
END:VEVENT
END:VCALENDAR