BEGIN:VCALENDAR
VERSION:2.0
PRODID:-//East Lincoln Community Garden - ECPv6.15.20//NONSGML v1.0//EN
CALSCALE:GREGORIAN
METHOD:PUBLISH
X-WR-CALNAME:East Lincoln Community Garden
X-ORIGINAL-URL:https://elcommunitygarden.org
X-WR-CALDESC:Events for East Lincoln Community Garden
REFRESH-INTERVAL;VALUE=DURATION:PT1H
X-Robots-Tag:noindex
X-PUBLISHED-TTL:PT1H
BEGIN:VTIMEZONE
TZID:America/New_York
BEGIN:DAYLIGHT
TZOFFSETFROM:-0500
TZOFFSETTO:-0400
TZNAME:EDT
DTSTART:20250309T070000
END:DAYLIGHT
BEGIN:STANDARD
TZOFFSETFROM:-0400
TZOFFSETTO:-0500
TZNAME:EST
DTSTART:20251102T060000
END:STANDARD
BEGIN:DAYLIGHT
TZOFFSETFROM:-0500
TZOFFSETTO:-0400
TZNAME:EDT
DTSTART:20260308T070000
END:DAYLIGHT
BEGIN:STANDARD
TZOFFSETFROM:-0400
TZOFFSETTO:-0500
TZNAME:EST
DTSTART:20261101T060000
END:STANDARD
BEGIN:DAYLIGHT
TZOFFSETFROM:-0500
TZOFFSETTO:-0400
TZNAME:EDT
DTSTART:20270314T070000
END:DAYLIGHT
BEGIN:STANDARD
TZOFFSETFROM:-0400
TZOFFSETTO:-0500
TZNAME:EST
DTSTART:20271107T060000
END:STANDARD
END:VTIMEZONE
BEGIN:VEVENT
DTSTART;TZID=America/New_York:20260320T100000
DTEND;TZID=America/New_York:20260320T130000
DTSTAMP:20260423T143615
CREATED:20260318T142000Z
LAST-MODIFIED:20260318T142000Z
UID:7893-1774000800-1774011600@elcommunitygarden.org
SUMMARY:GARDEN MAINTENANCE | Moving Stone
DESCRIPTION:We will be wheelbarrowing stone from the pile in the parking lot to two locations in the garden where new 2′ W x 9.5′ L x 32″ H beds will be installed in the coming weeks. We will also add stone to the community garden walking paths where needed. \nFor Volunteers | Tasks involve lifting\, shoveling\, pushing a loaded wheelbarrow\, raking and leveling stone.  Please bring water to stay hydrated\, sun protection (hat\, sunglasses)\, and work gloves.  Tools are available from the tool shed.
URL:https://elcommunitygarden.org/event/garden-maintenance-moving-stone/
ATTACH;FMTTYPE=image/jpeg:https://elcommunitygarden.org/wp-content/uploads/2026/03/IMG_0717.jpeg
END:VEVENT
END:VCALENDAR